BEGIN:VCALENDAR
VERSION:2.0
PRODID:-//Ultima Online - ECPv5.16.4.1//NONSGML v1.0//EN
CALSCALE:GREGORIAN
METHOD:PUBLISH
X-WR-CALNAME:Ultima Online
X-ORIGINAL-URL:https://uo.com
X-WR-CALDESC:Events for Ultima Online
BEGIN:VTIMEZONE
TZID:Asia/Seoul
BEGIN:STANDARD
TZOFFSETFROM:+0900
TZOFFSETTO:+0900
TZNAME:KST
DTSTART:20170101T000000
END:STANDARD
END:VTIMEZONE
BEGIN:VEVENT
DTSTART;TZID=Asia/Seoul:20170826T200000
DTEND;TZID=Asia/Seoul:20170826T210000
DTSTAMP:20260422T103013
CREATED:20170808T115755Z
LAST-MODIFIED:20170808T115843Z
UID:14465-1503777600-1503781200@uo.com
SUMMARY:Arirang - Daemon's Crag
DESCRIPTION:Event Schedule \nDate/Time: August 26th\, 2017 08:00PM KST\nMeeting Place: Britain EM Hall \nEvent Story\nAlberich the Royal Guard Lieutenant was tired for recent incidents. He always worrying knight\, and sometimes Geoffrey and Sir Dupre told him that he is worrying too much. However\, his personality helped him time to time because he could anticipate best and worst situation. Like always\, he sat at his desk and reading reports. Suddenly door flies open and a man entered. He seems to be a squire or armiger. He gasps\, and said. \n“It’s urgent\, sir. My home is…is…” \nAlberich looked up at him\, and stands up while thinking\, \n‘Will my all concerns just go away someday?’ \nCaution! \nWe’re expecting battle in this event\, please insure your precious items or leave them to your bank box. Event time is not that long so we’ll start it right in time. \nWarning \nIf anyone disrupt the event\, spamming\, insulting\, and harassing others or EM\, event will be stopped until the situation is handled. Please be advice that any inappropriate behavior will noted to your account\, and some of them can be fatal. EM will trying to hear your suggestion\, complain\, question\, and feedback willingly. Even though EM willing to hear and deal with the issue\, please note that there are some things that EM cannot deal with. \nEvent Chat Channel \nDuring the event\, we’ll use “Arirang EM Event” chat channel. To communicate with EM\, it is highly recommended to join the channel. EM will not take any responsibility for any penalties of information because of this.
URL:https://uo.com/event/em-event-daemons-crag/
LOCATION:Arirang
CATEGORIES:EM Event
END:VEVENT
END:VCALENDAR