BEGIN:VCALENDAR
VERSION:2.0
PRODID:-//Ultima Online - ECPv5.16.4.1//NONSGML v1.0//EN
CALSCALE:GREGORIAN
METHOD:PUBLISH
X-WR-CALNAME:Ultima Online
X-ORIGINAL-URL:https://uo.com
X-WR-CALDESC:Events for Ultima Online
BEGIN:VTIMEZONE
TZID:Europe/London
BEGIN:DAYLIGHT
TZOFFSETFROM:+0000
TZOFFSETTO:+0100
TZNAME:BST
DTSTART:20180325T010000
END:DAYLIGHT
BEGIN:STANDARD
TZOFFSETFROM:+0100
TZOFFSETTO:+0000
TZNAME:GMT
DTSTART:20181028T010000
END:STANDARD
END:VTIMEZONE
BEGIN:VEVENT
DTSTART;TZID=Europe/London:20181027T203000
DTEND;TZID=Europe/London:20181027T213000
DTSTAMP:20260421T104803
CREATED:20180926T194026Z
LAST-MODIFIED:20180926T194026Z
UID:17791-1540672200-1540675800@uo.com
SUMMARY:Europa - Halloween of Horrors
DESCRIPTION:Gather at 8.30 PM UK time zone – Scary monsters have come a long way…directly to Europa…our Halloween will be really scary this year! \n 
URL:https://uo.com/event/europa-halloween-of-horrors/
CATEGORIES:EM Event
END:VEVENT
END:VCALENDAR