BEGIN:VCALENDAR
VERSION:2.0
PRODID:-//Ultima Online - ECPv5.16.4.1//NONSGML v1.0//EN
CALSCALE:GREGORIAN
METHOD:PUBLISH
X-WR-CALNAME:Ultima Online
X-ORIGINAL-URL:https://uo.com
X-WR-CALDESC:Events for Ultima Online
BEGIN:VTIMEZONE
TZID:Europe/London
BEGIN:DAYLIGHT
TZOFFSETFROM:+0000
TZOFFSETTO:+0100
TZNAME:BST
DTSTART:20260329T010000
END:DAYLIGHT
BEGIN:STANDARD
TZOFFSETFROM:+0100
TZOFFSETTO:+0000
TZNAME:GMT
DTSTART:20261025T010000
END:STANDARD
END:VTIMEZONE
BEGIN:VEVENT
DTSTART;TZID=Europe/London:20260429T203000
DTEND;TZID=Europe/London:20260429T213000
DTSTAMP:20260422T175849
CREATED:20260421T192509Z
LAST-MODIFIED:20260421T192509Z
UID:37406-1777494600-1777498200@uo.com
SUMMARY:Europa - Last Words ( Part I)
DESCRIPTION:Gather at EM Hall 8.30 PM UK time zone
URL:https://uo.com/event/europa-last-words-part-i/
CATEGORIES:EM Event
END:VEVENT
END:VCALENDAR