BEGIN:VCALENDAR
VERSION:2.0
PRODID:-//Ultima Online - ECPv5.16.4.1//NONSGML v1.0//EN
CALSCALE:GREGORIAN
METHOD:PUBLISH
X-WR-CALNAME:Ultima Online
X-ORIGINAL-URL:https://uo.com
X-WR-CALDESC:Events for Ultima Online
BEGIN:VTIMEZONE
TZID:Europe/London
BEGIN:DAYLIGHT
TZOFFSETFROM:+0000
TZOFFSETTO:+0100
TZNAME:BST
DTSTART:20230326T010000
END:DAYLIGHT
BEGIN:STANDARD
TZOFFSETFROM:+0100
TZOFFSETTO:+0000
TZNAME:GMT
DTSTART:20231029T010000
END:STANDARD
END:VTIMEZONE
BEGIN:VEVENT
DTSTART;TZID=Europe/London:20230227T203000
DTEND;TZID=Europe/London:20230227T213000
DTSTAMP:20260423T020418
CREATED:20230213T191145Z
LAST-MODIFIED:20230213T191145Z
UID:29219-1677529800-1677533400@uo.com
SUMMARY:Europa - Pyromaniac Of Love (Part II)
DESCRIPTION:Gather at EM Hall 8.30 PM UK Time zone
URL:https://uo.com/event/europa-pyromaniac-of-love-part-ii/
CATEGORIES:EM Event
END:VEVENT
END:VCALENDAR