BEGIN:VCALENDAR
VERSION:2.0
PRODID:-//Ultima Online - ECPv5.16.4.1//NONSGML v1.0//EN
CALSCALE:GREGORIAN
METHOD:PUBLISH
X-WR-CALNAME:Ultima Online
X-ORIGINAL-URL:https://uo.com
X-WR-CALDESC:Events for Ultima Online
BEGIN:VTIMEZONE
TZID:Europe/London
BEGIN:DAYLIGHT
TZOFFSETFROM:+0000
TZOFFSETTO:+0100
TZNAME:BST
DTSTART:20180325T010000
END:DAYLIGHT
BEGIN:STANDARD
TZOFFSETFROM:+0100
TZOFFSETTO:+0000
TZNAME:GMT
DTSTART:20181028T010000
END:STANDARD
END:VTIMEZONE
BEGIN:VEVENT
DTSTART;TZID=Europe/London:20181028T183000
DTEND;TZID=Europe/London:20181028T193000
DTSTAMP:20260421T104607
CREATED:20180926T194318Z
LAST-MODIFIED:20180926T194318Z
UID:17795-1540751400-1540755000@uo.com
SUMMARY:Europa - Royal Council
DESCRIPTION:Gather at Castle Blackthorn at 6.30 PM UK time zone
URL:https://uo.com/event/europa-royal-council-12/
CATEGORIES:EM Event
END:VEVENT
END:VCALENDAR