BEGIN:VCALENDAR
VERSION:2.0
PRODID:-//Ultima Online - ECPv5.16.4.1//NONSGML v1.0//EN
CALSCALE:GREGORIAN
METHOD:PUBLISH
X-WR-CALNAME:Ultima Online
X-ORIGINAL-URL:https://uo.com
X-WR-CALDESC:Events for Ultima Online
BEGIN:VTIMEZONE
TZID:Europe/London
BEGIN:DAYLIGHT
TZOFFSETFROM:+0000
TZOFFSETTO:+0100
TZNAME:BST
DTSTART:20180325T010000
END:DAYLIGHT
BEGIN:STANDARD
TZOFFSETFROM:+0100
TZOFFSETTO:+0000
TZNAME:GMT
DTSTART:20181028T010000
END:STANDARD
END:VTIMEZONE
BEGIN:VEVENT
DTSTART;TZID=Europe/London:20181111T203000
DTEND;TZID=Europe/London:20181111T213000
DTSTAMP:20260421T091512
CREATED:20181029T170827Z
LAST-MODIFIED:20181106T202826Z
UID:18079-1541968200-1541971800@uo.com
SUMMARY:Europa - The Lord of Halloween
DESCRIPTION:Gather at EM Hall! Are you ready to face the evilish Lord of Halloween? Have you been good this year? 8.30 PM UK time zone \n*MAIN* event!!
URL:https://uo.com/event/europa-the-lord-of-halloween/
CATEGORIES:EM Event
END:VEVENT
END:VCALENDAR