BEGIN:VCALENDAR
VERSION:2.0
PRODID:-//Ultima Online - ECPv5.16.4.1//NONSGML v1.0//EN
CALSCALE:GREGORIAN
METHOD:PUBLISH
X-WR-CALNAME:Ultima Online
X-ORIGINAL-URL:https://uo.com
X-WR-CALDESC:Events for Ultima Online
BEGIN:VTIMEZONE
TZID:Asia/Taipei
BEGIN:STANDARD
TZOFFSETFROM:+0800
TZOFFSETTO:+0800
TZNAME:CST
DTSTART:20180101T000000
END:STANDARD
END:VTIMEZONE
BEGIN:VEVENT
DTSTART;TZID=Asia/Taipei:20180427T210000
DTEND;TZID=Asia/Taipei:20180427T220000
DTSTAMP:20260421T203354
CREATED:20180418T074224Z
LAST-MODIFIED:20180418T074224Z
UID:16398-1524862800-1524866400@uo.com
SUMMARY:Formosa April Cherry Blossom Event
DESCRIPTION:April Season of Cherry Blossom !!
URL:https://uo.com/event/formosa-april-cherry-blossom-event/
LOCATION:Formosa Britain EM Hall
CATEGORIES:EM Event
END:VEVENT
END:VCALENDAR