BEGIN:VCALENDAR
VERSION:2.0
PRODID:-//Ultima Online - ECPv5.16.4.1//NONSGML v1.0//EN
CALSCALE:GREGORIAN
METHOD:PUBLISH
X-WR-CALNAME:Ultima Online
X-ORIGINAL-URL:https://uo.com
X-WR-CALDESC:Events for Ultima Online
BEGIN:VTIMEZONE
TZID:Asia/Taipei
BEGIN:STANDARD
TZOFFSETFROM:+0800
TZOFFSETTO:+0800
TZNAME:CST
DTSTART:20240101T000000
END:STANDARD
END:VTIMEZONE
BEGIN:VEVENT
DTSTART;TZID=Asia/Taipei:20240429T220000
DTEND;TZID=Asia/Taipei:20240429T230000
DTSTAMP:20260421T210457
CREATED:20240421T154531Z
LAST-MODIFIED:20240421T155201Z
UID:31723-1714428000-1714431600@uo.com
SUMMARY:Formosa Chicken Fight Game
DESCRIPTION:Formosa Chicken Fight Game on April 29th Monday at Britain EM Hall 10pm TW/23:00 JPN. Please bring a bonded chicken for the event !
URL:https://uo.com/event/formosa-chicken-fight-game/
LOCATION:Formosa Britain EM Hall
CATEGORIES:Competition,EM Event
END:VEVENT
END:VCALENDAR