BEGIN:VCALENDAR
VERSION:2.0
PRODID:-//Ultima Online - ECPv5.16.4.1//NONSGML v1.0//EN
CALSCALE:GREGORIAN
METHOD:PUBLISH
X-WR-CALNAME:Ultima Online
X-ORIGINAL-URL:https://uo.com
X-WR-CALDESC:Events for Ultima Online
BEGIN:VTIMEZONE
TZID:Asia/Taipei
BEGIN:STANDARD
TZOFFSETFROM:+0800
TZOFFSETTO:+0800
TZNAME:CST
DTSTART:20190101T000000
END:STANDARD
END:VTIMEZONE
BEGIN:VEVENT
DTSTART;TZID=Asia/Taipei:20190530T210000
DTEND;TZID=Asia/Taipei:20190530T220000
DTSTAMP:20260421T145746
CREATED:20190522T181206Z
LAST-MODIFIED:20190522T181206Z
UID:19883-1559250000-1559253600@uo.com
SUMMARY:Formosa DragonBoat Festival Breakout
DESCRIPTION:Formosa Britain EM Hall to celebrate the Dragonboat Festival
URL:https://uo.com/event/formosa-dragonboat-festival-breakout/
LOCATION:Formosa Britain EM Hall
CATEGORIES:EM Event
END:VEVENT
END:VCALENDAR