BEGIN:VCALENDAR
VERSION:2.0
PRODID:-//Ultima Online - ECPv5.16.4.1//NONSGML v1.0//EN
CALSCALE:GREGORIAN
METHOD:PUBLISH
X-WR-CALNAME:Ultima Online
X-ORIGINAL-URL:https://uo.com
X-WR-CALDESC:Events for Ultima Online
BEGIN:VTIMEZONE
TZID:Asia/Taipei
BEGIN:STANDARD
TZOFFSETFROM:+0800
TZOFFSETTO:+0800
TZNAME:CST
DTSTART:20230101T000000
END:STANDARD
END:VTIMEZONE
BEGIN:VEVENT
DTSTART;TZID=Asia/Taipei:20230326T220000
DTEND;TZID=Asia/Taipei:20230326T230000
DTSTAMP:20260422T192618
CREATED:20230319T222854Z
LAST-MODIFIED:20230319T222924Z
UID:29414-1679868000-1679871600@uo.com
SUMMARY:Formosa Dungeon Run Game Event
DESCRIPTION:Meet at Britain EM Hall at 10pm/23:00 JPN
URL:https://uo.com/event/formosa-dungeon-run-game-event/
LOCATION:Formosa Britain EM Hall
CATEGORIES:EM Event
END:VEVENT
END:VCALENDAR