BEGIN:VCALENDAR
VERSION:2.0
PRODID:-//Ultima Online - ECPv5.16.4.1//NONSGML v1.0//EN
CALSCALE:GREGORIAN
METHOD:PUBLISH
X-WR-CALNAME:Ultima Online
X-ORIGINAL-URL:https://uo.com
X-WR-CALDESC:Events for Ultima Online
BEGIN:VTIMEZONE
TZID:Asia/Taipei
BEGIN:STANDARD
TZOFFSETFROM:+0800
TZOFFSETTO:+0800
TZNAME:CST
DTSTART:20260101T000000
END:STANDARD
END:VTIMEZONE
BEGIN:VEVENT
DTSTART;TZID=Asia/Taipei:20260424T220000
DTEND;TZID=Asia/Taipei:20260424T223000
DTSTAMP:20260421T193556
CREATED:20260417T083549Z
LAST-MODIFIED:20260417T083549Z
UID:37368-1777068000-1777069800@uo.com
SUMMARY:Formosa Final Portal Act Event
DESCRIPTION:Formosa Final Portal Act Event at 24th Friday at 10pm TW/11pm JPN at Britain EM Hall (Taipei timezone)
URL:https://uo.com/event/formosa-final-portal-act-event/
LOCATION:Formosa Britain EM Hall
CATEGORIES:EM Event
END:VEVENT
END:VCALENDAR