BEGIN:VCALENDAR
VERSION:2.0
PRODID:-//Ultima Online - ECPv5.16.4.1//NONSGML v1.0//EN
CALSCALE:GREGORIAN
METHOD:PUBLISH
X-WR-CALNAME:Ultima Online
X-ORIGINAL-URL:https://uo.com
X-WR-CALDESC:Events for Ultima Online
BEGIN:VTIMEZONE
TZID:Asia/Taipei
BEGIN:STANDARD
TZOFFSETFROM:+0800
TZOFFSETTO:+0800
TZNAME:CST
DTSTART:20210101T000000
END:STANDARD
END:VTIMEZONE
BEGIN:VEVENT
DTSTART;TZID=Asia/Taipei:20211226T210000
DTEND;TZID=Asia/Taipei:20211226T210000
DTSTAMP:20260419T164127
CREATED:20211217T014541Z
LAST-MODIFIED:20211224T130407Z
UID:26499-1640552400-1640552400@uo.com
SUMMARY:Formosa - Frosty Xmas Event
DESCRIPTION:Time: 2021/12/24 09:00PM TST | 22:00PM JST \nMeeting Place: Britain EM Hall \n**Event has been postponed due to server maintenence**
URL:https://uo.com/event/formosa-frosty-xmas-event/
LOCATION:Formosa Britain EM Hall
CATEGORIES:EM Event
END:VEVENT
END:VCALENDAR