BEGIN:VCALENDAR
VERSION:2.0
PRODID:-//Ultima Online - ECPv5.16.4.1//NONSGML v1.0//EN
CALSCALE:GREGORIAN
METHOD:PUBLISH
X-WR-CALNAME:Ultima Online
X-ORIGINAL-URL:https://uo.com
X-WR-CALDESC:Events for Ultima Online
BEGIN:VTIMEZONE
TZID:Asia/Taipei
BEGIN:STANDARD
TZOFFSETFROM:+0800
TZOFFSETTO:+0800
TZNAME:CST
DTSTART:20180101T000000
END:STANDARD
END:VTIMEZONE
BEGIN:VEVENT
DTSTART;TZID=Asia/Taipei:20180831T210000
DTEND;TZID=Asia/Taipei:20180831T220000
DTSTAMP:20260421T104426
CREATED:20180819T185700Z
LAST-MODIFIED:20180819T185700Z
UID:17421-1535749200-1535752800@uo.com
SUMMARY:Formosa Summer Hideout Part 2
DESCRIPTION:The Bridge
URL:https://uo.com/event/formosa-summer-hideout-part-2/
LOCATION:Formosa Britain EM Hall
CATEGORIES:EM Event
END:VEVENT
END:VCALENDAR