BEGIN:VCALENDAR
VERSION:2.0
PRODID:-//Ultima Online - ECPv5.16.4.1//NONSGML v1.0//EN
CALSCALE:GREGORIAN
METHOD:PUBLISH
X-WR-CALNAME:Ultima Online
X-ORIGINAL-URL:https://uo.com
X-WR-CALDESC:Events for Ultima Online
BEGIN:VTIMEZONE
TZID:Asia/Taipei
BEGIN:STANDARD
TZOFFSETFROM:+0800
TZOFFSETTO:+0800
TZNAME:CST
DTSTART:20240101T000000
END:STANDARD
END:VTIMEZONE
BEGIN:VEVENT
DTSTART;TZID=Asia/Taipei:20240505T210000
DTEND;TZID=Asia/Taipei:20240505T220000
DTSTAMP:20260422T181352
CREATED:20240421T160713Z
LAST-MODIFIED:20240421T160713Z
UID:31738-1714942800-1714946400@uo.com
SUMMARY:Formosa The Plague Again Dragon Event
DESCRIPTION:Formosa The Plague Again Dragon Event on 6th May Sunday at 9pm TW/22:00 JPN at Britain EM Hall.
URL:https://uo.com/event/formosa-the-plague-again-dragon-event/
LOCATION:Formosa Britain EM Hall
CATEGORIES:EM Event
END:VEVENT
END:VCALENDAR