BEGIN:VCALENDAR
VERSION:2.0
PRODID:-//Ultima Online - ECPv5.16.4.1//NONSGML v1.0//EN
CALSCALE:GREGORIAN
METHOD:PUBLISH
X-WR-CALNAME:Ultima Online
X-ORIGINAL-URL:https://uo.com
X-WR-CALDESC:Events for Ultima Online
BEGIN:VTIMEZONE
TZID:Asia/Taipei
BEGIN:STANDARD
TZOFFSETFROM:+0800
TZOFFSETTO:+0800
TZNAME:CST
DTSTART:20170101T000000
END:STANDARD
END:VTIMEZONE
BEGIN:VEVENT
DTSTART;TZID=Asia/Taipei:20171123T210000
DTEND;TZID=Asia/Taipei:20171123T223000
DTSTAMP:20260421T135722
CREATED:20171103T031307Z
LAST-MODIFIED:20171103T031307Z
UID:15212-1511470800-1511476200@uo.com
SUMMARY:Formosa Titan Attack FInale
DESCRIPTION:
URL:https://uo.com/event/formosa-titan-attack-finale/
LOCATION:Formosa Britain EM Hall
CATEGORIES:EM Event
END:VEVENT
END:VCALENDAR