BEGIN:VCALENDAR
VERSION:2.0
PRODID:-//Ultima Online - ECPv5.16.4.1//NONSGML v1.0//EN
CALSCALE:GREGORIAN
METHOD:PUBLISH
X-WR-CALNAME:Ultima Online
X-ORIGINAL-URL:https://uo.com
X-WR-CALDESC:Events for Ultima Online
BEGIN:VTIMEZONE
TZID:America/New_York
BEGIN:DAYLIGHT
TZOFFSETFROM:-0500
TZOFFSETTO:-0400
TZNAME:EDT
DTSTART:20180311T070000
END:DAYLIGHT
BEGIN:STANDARD
TZOFFSETFROM:-0400
TZOFFSETTO:-0500
TZNAME:EST
DTSTART:20181104T060000
END:STANDARD
END:VTIMEZONE
BEGIN:VEVENT
DTSTART;TZID=America/New_York:20180429T210000
DTEND;TZID=America/New_York:20180429T220000
DTSTAMP:20260421T134033
CREATED:20180423T012031Z
LAST-MODIFIED:20180423T012108Z
UID:16455-1525035600-1525039200@uo.com
SUMMARY:Governors Meeting - Chessy - 4/29/18 - 9pm Est
DESCRIPTION:Governors Meeting – Chessy – 4/29/18 – 9pm Est
URL:https://uo.com/event/governors-meeting-chessy-4-29-18-9pm-est/
LOCATION:Chesapeake
CATEGORIES:EM Event
END:VEVENT
END:VCALENDAR