BEGIN:VCALENDAR
VERSION:2.0
PRODID:-//Ultima Online - ECPv5.16.4.1//NONSGML v1.0//EN
CALSCALE:GREGORIAN
METHOD:PUBLISH
X-WR-CALNAME:Ultima Online
X-ORIGINAL-URL:https://uo.com
X-WR-CALDESC:Events for Ultima Online
BEGIN:VTIMEZONE
TZID:America/Chicago
BEGIN:DAYLIGHT
TZOFFSETFROM:-0600
TZOFFSETTO:-0500
TZNAME:CDT
DTSTART:20240310T080000
END:DAYLIGHT
BEGIN:STANDARD
TZOFFSETFROM:-0500
TZOFFSETTO:-0600
TZNAME:CST
DTSTART:20241103T070000
END:STANDARD
END:VTIMEZONE
BEGIN:VEVENT
DTSTART;TZID=America/Chicago:20240430T200000
DTEND;TZID=America/Chicago:20240430T200000
DTSTAMP:20260421T230210
CREATED:20240402T022314Z
LAST-MODIFIED:20240402T022314Z
UID:31533-1714507200-1714507200@uo.com
SUMMARY:Great Lakes – Royal Britannian Guard
DESCRIPTION:This Royal Britannian Guard mission has the codename “Cursed Festival of the Grape”. To attend\, go through the moongate inside the Britain Counselor Hall.
URL:https://uo.com/event/great-lakes-royal-britannian-guard-148/
LOCATION:Great Lakes – Counselor Hall
CATEGORIES:EM Event
END:VEVENT
END:VCALENDAR