BEGIN:VCALENDAR
VERSION:2.0
PRODID:-//Ultima Online - ECPv5.16.4.1//NONSGML v1.0//EN
CALSCALE:GREGORIAN
METHOD:PUBLISH
X-WR-CALNAME:Ultima Online
X-ORIGINAL-URL:https://uo.com
X-WR-CALDESC:Events for Ultima Online
BEGIN:VTIMEZONE
TZID:Asia/Tokyo
BEGIN:STANDARD
TZOFFSETFROM:+0900
TZOFFSETTO:+0900
TZNAME:JST
DTSTART:20240101T000000
END:STANDARD
END:VTIMEZONE
BEGIN:VEVENT
DTSTART;TZID=Asia/Tokyo:20240828T220000
DTEND;TZID=Asia/Tokyo:20240828T230000
DTSTAMP:20260424T130316
CREATED:20240825T013639Z
LAST-MODIFIED:20240825T013639Z
UID:32513-1724882400-1724886000@uo.com
SUMMARY:Hokuto Event
DESCRIPTION:The details\, please look at the Web site on Hokuto.\nhttps://uoemhokuto.hatenablog.com/
URL:https://uo.com/event/hokuto-event-64/
CATEGORIES:EM Event
END:VEVENT
END:VCALENDAR