BEGIN:VCALENDAR
VERSION:2.0
PRODID:-//Ultima Online - ECPv5.16.4.1//NONSGML v1.0//EN
CALSCALE:GREGORIAN
METHOD:PUBLISH
X-WR-CALNAME:Ultima Online
X-ORIGINAL-URL:https://uo.com
X-WR-CALDESC:Events for Ultima Online
BEGIN:VTIMEZONE
TZID:Asia/Tokyo
BEGIN:STANDARD
TZOFFSETFROM:+0900
TZOFFSETTO:+0900
TZNAME:JST
DTSTART:20250101T000000
END:STANDARD
END:VTIMEZONE
BEGIN:VEVENT
DTSTART;TZID=Asia/Tokyo:20250817T213000
DTEND;TZID=Asia/Tokyo:20250817T213000
DTSTAMP:20260421T040547
CREATED:20250727T035506Z
LAST-MODIFIED:20250816T032144Z
UID:35433-1755466200-1755466200@uo.com
SUMMARY:Izumo - Event
DESCRIPTION:Due to EM circumstances\, the start time has been changed from 9:00 p.m. to 9:30 p.m.\nWe apologise for any inconvenience and thank you for your understanding.
URL:https://uo.com/event/izumo-event-58/
LOCATION:TBD
CATEGORIES:EM Event
END:VEVENT
END:VCALENDAR