BEGIN:VCALENDAR
VERSION:2.0
PRODID:-//Ultima Online - ECPv5.16.4.1//NONSGML v1.0//EN
CALSCALE:GREGORIAN
METHOD:PUBLISH
X-WR-CALNAME:Ultima Online
X-ORIGINAL-URL:https://uo.com
X-WR-CALDESC:Events for Ultima Online
BEGIN:VTIMEZONE
TZID:America/New_York
BEGIN:DAYLIGHT
TZOFFSETFROM:-0500
TZOFFSETTO:-0400
TZNAME:EDT
DTSTART:20230312T070000
END:DAYLIGHT
BEGIN:STANDARD
TZOFFSETFROM:-0400
TZOFFSETTO:-0500
TZNAME:EST
DTSTART:20231105T060000
END:STANDARD
END:VTIMEZONE
BEGIN:VEVENT
DTSTART;TZID=America/New_York:20230112T210000
DTEND;TZID=America/New_York:20230112T220000
DTSTAMP:20260422T142038
CREATED:20230106T220246Z
LAST-MODIFIED:20230106T220246Z
UID:28915-1673557200-1673560800@uo.com
SUMMARY:LA - Scorpions
DESCRIPTION:Gather at EM Hall for details
URL:https://uo.com/event/la-scorpions/
LOCATION:EM Counselor Hall (Britain)
CATEGORIES:EM Event
END:VEVENT
END:VCALENDAR