BEGIN:VCALENDAR
VERSION:2.0
PRODID:-//Ultima Online - ECPv5.16.4.1//NONSGML v1.0//EN
CALSCALE:GREGORIAN
METHOD:PUBLISH
X-WR-CALNAME:Ultima Online
X-ORIGINAL-URL:https://uo.com
X-WR-CALDESC:Events for Ultima Online
BEGIN:VTIMEZONE
TZID:America/Chicago
BEGIN:DAYLIGHT
TZOFFSETFROM:-0600
TZOFFSETTO:-0500
TZNAME:CDT
DTSTART:20170312T080000
END:DAYLIGHT
BEGIN:STANDARD
TZOFFSETFROM:-0500
TZOFFSETTO:-0600
TZNAME:CST
DTSTART:20171105T070000
END:STANDARD
END:VTIMEZONE
BEGIN:VEVENT
DTSTART;TZID=America/Chicago:20170916T200000
DTEND;TZID=America/Chicago:20170916T210000
DTSTAMP:20260422T072747
CREATED:20170914T031957Z
LAST-MODIFIED:20170914T031957Z
UID:14851-1505592000-1505595600@uo.com
SUMMARY:Lake Austin - Help Save Skara Brae
DESCRIPTION:Friends and Foes it is time to band together to help push back the evil attacking Skara Brae! \n  \nMeet at EM Hall 8PM Central Time \n 
URL:https://uo.com/event/lake-austin-help-save-skara-brae/
CATEGORIES:EM Event
END:VEVENT
END:VCALENDAR