BEGIN:VCALENDAR
VERSION:2.0
PRODID:-//Ultima Online - ECPv5.16.4.1//NONSGML v1.0//EN
CALSCALE:GREGORIAN
METHOD:PUBLISH
X-WR-CALNAME:Ultima Online
X-ORIGINAL-URL:https://uo.com
X-WR-CALDESC:Events for Ultima Online
BEGIN:VTIMEZONE
TZID:America/Chicago
BEGIN:DAYLIGHT
TZOFFSETFROM:-0600
TZOFFSETTO:-0500
TZNAME:CDT
DTSTART:20180311T080000
END:DAYLIGHT
BEGIN:STANDARD
TZOFFSETFROM:-0500
TZOFFSETTO:-0600
TZNAME:CST
DTSTART:20181104T070000
END:STANDARD
END:VTIMEZONE
BEGIN:VEVENT
DTSTART;TZID=America/Chicago:20180428T200000
DTEND;TZID=America/Chicago:20180428T200000
DTSTAMP:20260421T203308
CREATED:20180414T095315Z
LAST-MODIFIED:20180414T095315Z
UID:16376-1524945600-1524945600@uo.com
SUMMARY:Lake Austin - "Roses Roses"
DESCRIPTION:The story continues… \n  \nMeet at EM Hall at 8pm Central Time on April 28th \nTransportation will be provided from Luna and West Brit banks \nBring your weapons this is going to get bloody!!
URL:https://uo.com/event/lake-austin-roses-roses/
CATEGORIES:EM Event
END:VEVENT
END:VCALENDAR