BEGIN:VCALENDAR
VERSION:2.0
PRODID:-//Ultima Online - ECPv5.16.4.1//NONSGML v1.0//EN
CALSCALE:GREGORIAN
METHOD:PUBLISH
X-WR-CALNAME:Ultima Online
X-ORIGINAL-URL:https://uo.com
X-WR-CALDESC:Events for Ultima Online
BEGIN:VTIMEZONE
TZID:America/Chicago
BEGIN:DAYLIGHT
TZOFFSETFROM:-0600
TZOFFSETTO:-0500
TZNAME:CDT
DTSTART:20170312T080000
END:DAYLIGHT
BEGIN:STANDARD
TZOFFSETFROM:-0500
TZOFFSETTO:-0600
TZNAME:CST
DTSTART:20171105T070000
END:STANDARD
END:VTIMEZONE
BEGIN:VEVENT
DTSTART;TZID=America/Chicago:20170624T200000
DTEND;TZID=America/Chicago:20170624T210000
DTSTAMP:20260422T135917
CREATED:20170610T221432Z
LAST-MODIFIED:20170610T221432Z
UID:14031-1498334400-1498338000@uo.com
SUMMARY:Lake Austin "To Save the Living"
DESCRIPTION:Saturday June 24th at 8pm Central Time “To Save the Living” call to arms. Harriet has some business with the Juka only to find their mages are working on new spells of incognito. We meet at the council hall to discuss the ramifications. Then the bravest among us must face the Juka and stop this evil from going too far.
URL:https://uo.com/event/lake-austin-to-save-the-living/
CATEGORIES:EM Event
END:VEVENT
END:VCALENDAR