BEGIN:VCALENDAR
VERSION:2.0
PRODID:-//Ultima Online - ECPv5.16.4.1//NONSGML v1.0//EN
CALSCALE:GREGORIAN
METHOD:PUBLISH
X-WR-CALNAME:Ultima Online
X-ORIGINAL-URL:https://uo.com
X-WR-CALDESC:Events for Ultima Online
BEGIN:VTIMEZONE
TZID:America/Chicago
BEGIN:DAYLIGHT
TZOFFSETFROM:-0600
TZOFFSETTO:-0500
TZNAME:CDT
DTSTART:20240310T080000
END:DAYLIGHT
BEGIN:STANDARD
TZOFFSETFROM:-0500
TZOFFSETTO:-0600
TZNAME:CST
DTSTART:20241103T070000
END:STANDARD
END:VTIMEZONE
BEGIN:VEVENT
DTSTART;TZID=America/Chicago:20240625T210000
DTEND;TZID=America/Chicago:20240625T220000
DTSTAMP:20260423T134344
CREATED:20240611T175101Z
LAST-MODIFIED:20240611T175101Z
UID:32035-1719349200-1719352800@uo.com
SUMMARY:Lake Superior - The Better Days
DESCRIPTION:The War comes to an end! But are the better days ahead? \nGates provided at WBB and Luna Mint.
URL:https://uo.com/event/lake-superior-the-better-days/
CATEGORIES:EM Event
END:VEVENT
END:VCALENDAR