BEGIN:VCALENDAR
VERSION:2.0
PRODID:-//Ultima Online - ECPv5.16.4.1//NONSGML v1.0//EN
CALSCALE:GREGORIAN
METHOD:PUBLISH
X-WR-CALNAME:Ultima Online
X-ORIGINAL-URL:https://uo.com
X-WR-CALDESC:Events for Ultima Online
BEGIN:VTIMEZONE
TZID:America/Chicago
BEGIN:DAYLIGHT
TZOFFSETFROM:-0600
TZOFFSETTO:-0500
TZNAME:CDT
DTSTART:20240310T080000
END:DAYLIGHT
BEGIN:STANDARD
TZOFFSETFROM:-0500
TZOFFSETTO:-0600
TZNAME:CST
DTSTART:20241103T070000
END:STANDARD
END:VTIMEZONE
BEGIN:VEVENT
DTSTART;TZID=America/Chicago:20240521T210000
DTEND;TZID=America/Chicago:20240521T220000
DTSTAMP:20260426T002346
CREATED:20240508T150506Z
LAST-MODIFIED:20240508T150506Z
UID:31843-1716325200-1716328800@uo.com
SUMMARY:Lake Superior - Victory and Defeat
DESCRIPTION:The Ophidian War rages\, but what have we lost? \nReflect on the cost of this war on 5/21/24 @ 9 PM CDT
URL:https://uo.com/event/lake-superior-victory-and-defeat/
CATEGORIES:EM Event
END:VEVENT
END:VCALENDAR