BEGIN:VCALENDAR
VERSION:2.0
PRODID:-//Ultima Online - ECPv5.16.4.1//NONSGML v1.0//EN
CALSCALE:GREGORIAN
METHOD:PUBLISH
X-WR-CALNAME:Ultima Online
X-ORIGINAL-URL:https://uo.com
X-WR-CALDESC:Events for Ultima Online
BEGIN:VTIMEZONE
TZID:America/New_York
BEGIN:DAYLIGHT
TZOFFSETFROM:-0500
TZOFFSETTO:-0400
TZNAME:EDT
DTSTART:20250309T070000
END:DAYLIGHT
BEGIN:STANDARD
TZOFFSETFROM:-0400
TZOFFSETTO:-0500
TZNAME:EST
DTSTART:20251102T060000
END:STANDARD
END:VTIMEZONE
BEGIN:VEVENT
DTSTART;TZID=America/New_York:20251021T200000
DTEND;TZID=America/New_York:20251021T210000
DTSTAMP:20260421T055356
CREATED:20251002T020659Z
LAST-MODIFIED:20251002T020659Z
UID:35887-1761076800-1761080400@uo.com
SUMMARY:Legends- A Haunting we will go!
DESCRIPTION:All Hallow’s eve is gearing up! What strange noises and spirits are lurking? \nGate will be provided from Luna Bank.
URL:https://uo.com/event/legends-a-haunting-we-will-go/
CATEGORIES:EM Event
END:VEVENT
END:VCALENDAR