BEGIN:VCALENDAR
VERSION:2.0
PRODID:-//Ultima Online - ECPv5.16.4.1//NONSGML v1.0//EN
CALSCALE:GREGORIAN
METHOD:PUBLISH
X-WR-CALNAME:Ultima Online
X-ORIGINAL-URL:https://uo.com
X-WR-CALDESC:Events for Ultima Online
BEGIN:VTIMEZONE
TZID:America/New_York
BEGIN:DAYLIGHT
TZOFFSETFROM:-0500
TZOFFSETTO:-0400
TZNAME:EDT
DTSTART:20250309T070000
END:DAYLIGHT
BEGIN:STANDARD
TZOFFSETFROM:-0400
TZOFFSETTO:-0500
TZNAME:EST
DTSTART:20251102T060000
END:STANDARD
END:VTIMEZONE
BEGIN:VEVENT
DTSTART;TZID=America/New_York:20250923T200000
DTEND;TZID=America/New_York:20250923T210000
DTSTAMP:20260421T042328
CREATED:20250916T184235Z
LAST-MODIFIED:20250916T184235Z
UID:35742-1758657600-1758661200@uo.com
SUMMARY:Legends-Altered Beasts
DESCRIPTION:Something is happening to the creatures of the realm. Whatever it is must be stopped before chaos happens! \nMeet at the EM Hall to begin! Gate provided from Luna Bank!
URL:https://uo.com/event/legends-altered-beasts/
CATEGORIES:EM Event
END:VEVENT
END:VCALENDAR