BEGIN:VCALENDAR
VERSION:2.0
PRODID:-//Ultima Online - ECPv5.16.4.1//NONSGML v1.0//EN
CALSCALE:GREGORIAN
METHOD:PUBLISH
X-WR-CALNAME:Ultima Online
X-ORIGINAL-URL:https://uo.com
X-WR-CALDESC:Events for Ultima Online
BEGIN:VTIMEZONE
TZID:America/New_York
BEGIN:DAYLIGHT
TZOFFSETFROM:-0500
TZOFFSETTO:-0400
TZNAME:EDT
DTSTART:20180311T070000
END:DAYLIGHT
BEGIN:STANDARD
TZOFFSETFROM:-0400
TZOFFSETTO:-0500
TZNAME:EST
DTSTART:20181104T060000
END:STANDARD
END:VTIMEZONE
BEGIN:VEVENT
DTSTART;TZID=America/New_York:20180428T150000
DTEND;TZID=America/New_York:20180428T160000
DTSTAMP:20260421T185306
CREATED:20180411T024650Z
LAST-MODIFIED:20180411T024650Z
UID:16349-1524927600-1524931200@uo.com
SUMMARY:Legends - Demanding Answers II [R]
DESCRIPTION:On Saturday\, April 28th at 3:00 PM EST\, meet at the Rangers Guild Hall in Skara Brae.\nNote: This event will have moderate roleplay\, heavy combat\, and a reward.
URL:https://uo.com/event/legends-demanding-answers-ii-r/
LOCATION:Legends
CATEGORIES:EM Event
END:VEVENT
END:VCALENDAR