BEGIN:VCALENDAR
VERSION:2.0
PRODID:-//Ultima Online - ECPv5.16.4.1//NONSGML v1.0//EN
CALSCALE:GREGORIAN
METHOD:PUBLISH
X-WR-CALNAME:Ultima Online
X-ORIGINAL-URL:https://uo.com
X-WR-CALDESC:Events for Ultima Online
BEGIN:VTIMEZONE
TZID:America/New_York
BEGIN:DAYLIGHT
TZOFFSETFROM:-0500
TZOFFSETTO:-0400
TZNAME:EDT
DTSTART:20230312T070000
END:DAYLIGHT
BEGIN:STANDARD
TZOFFSETFROM:-0400
TZOFFSETTO:-0500
TZNAME:EST
DTSTART:20231105T060000
END:STANDARD
END:VTIMEZONE
BEGIN:VEVENT
DTSTART;TZID=America/New_York:20230207T200000
DTEND;TZID=America/New_York:20230207T210000
DTSTAMP:20260423T052811
CREATED:20221228T005334Z
LAST-MODIFIED:20230130T024027Z
UID:28779-1675800000-1675803600@uo.com
SUMMARY:Legends- The Art of War Pt 2
DESCRIPTION:Gather at the Britain Councilor Hall for further Instructions!
URL:https://uo.com/event/legends-the-art-of-war-pt-2/
CATEGORIES:EM Event
END:VEVENT
END:VCALENDAR