BEGIN:VCALENDAR
VERSION:2.0
PRODID:-//Ultima Online - ECPv5.16.4.1//NONSGML v1.0//EN
CALSCALE:GREGORIAN
METHOD:PUBLISH
X-WR-CALNAME:Ultima Online
X-ORIGINAL-URL:https://uo.com
X-WR-CALDESC:Events for Ultima Online
BEGIN:VTIMEZONE
TZID:America/New_York
BEGIN:DAYLIGHT
TZOFFSETFROM:-0500
TZOFFSETTO:-0400
TZNAME:EDT
DTSTART:20240310T070000
END:DAYLIGHT
BEGIN:STANDARD
TZOFFSETFROM:-0400
TZOFFSETTO:-0500
TZNAME:EST
DTSTART:20241103T060000
END:STANDARD
END:VTIMEZONE
BEGIN:VEVENT
DTSTART;TZID=America/New_York:20240521T200000
DTEND;TZID=America/New_York:20240521T200000
DTSTAMP:20260426T001554
CREATED:20240502T014512Z
LAST-MODIFIED:20240502T014758Z
UID:31789-1716321600-1716321600@uo.com
SUMMARY:Legends- The Leadup.
DESCRIPTION:Trouble is brewing\, Its up to you to find out what it is!
URL:https://uo.com/event/legends-the-leadup/
CATEGORIES:EM Event
END:VEVENT
END:VCALENDAR