BEGIN:VCALENDAR
VERSION:2.0
PRODID:-//Ultima Online - ECPv5.16.4.1//NONSGML v1.0//EN
CALSCALE:GREGORIAN
METHOD:PUBLISH
X-WR-CALNAME:Ultima Online
X-ORIGINAL-URL:https://uo.com
X-WR-CALDESC:Events for Ultima Online
BEGIN:VTIMEZONE
TZID:America/New_York
BEGIN:DAYLIGHT
TZOFFSETFROM:-0500
TZOFFSETTO:-0400
TZNAME:EDT
DTSTART:20180311T070000
END:DAYLIGHT
BEGIN:STANDARD
TZOFFSETFROM:-0400
TZOFFSETTO:-0500
TZNAME:EST
DTSTART:20181104T060000
END:STANDARD
END:VTIMEZONE
BEGIN:VEVENT
DTSTART;TZID=America/New_York:20181114T200000
DTEND;TZID=America/New_York:20181114T210000
DTSTAMP:20260421T091248
CREATED:20181109T193452Z
LAST-MODIFIED:20181109T194454Z
UID:18289-1542225600-1542229200@uo.com
SUMMARY:LS -  Royal Council Meeting
DESCRIPTION:Lake Superior \nKing Blackthorn hereby requests the attendance of all governors for the monthly Royal Council meeting. \nPlease gather in the council chamber of Castle Blackthorn by 8p CST. \nAll citizens are welcome to attend!
URL:https://uo.com/event/ls-royal-council-meeting-2/
LOCATION:Castle Blackthorn Governors Hall
CATEGORIES:EM Event
END:VEVENT
END:VCALENDAR