BEGIN:VCALENDAR
VERSION:2.0
PRODID:-//Ultima Online - ECPv5.16.4.1//NONSGML v1.0//EN
CALSCALE:GREGORIAN
METHOD:PUBLISH
X-WR-CALNAME:Ultima Online
X-ORIGINAL-URL:https://uo.com
X-WR-CALDESC:Events for Ultima Online
BEGIN:VTIMEZONE
TZID:Asia/Taipei
BEGIN:STANDARD
TZOFFSETFROM:+0800
TZOFFSETTO:+0800
TZNAME:CST
DTSTART:20230101T000000
END:STANDARD
END:VTIMEZONE
BEGIN:VEVENT
DTSTART;TZID=Asia/Taipei:20231001T190000
DTEND;TZID=Asia/Taipei:20231001T203000
DTSTAMP:20260421T120521
CREATED:20230922T164618Z
LAST-MODIFIED:20230922T171020Z
UID:30413-1696186800-1696192200@uo.com
SUMMARY:Ludo Semi Final Southeast Region Championship
DESCRIPTION:Ludo Semi Final Southeast Championship on 1st Oct 7pm TW/20:00 JPN at Test Shard Moonglow city north. Moongate will be provide at Luna.
URL:https://uo.com/event/ludo-semi-final-southeast-region-championship/
LOCATION:TBD
CATEGORIES:EM Event
END:VEVENT
END:VCALENDAR