BEGIN:VCALENDAR
VERSION:2.0
PRODID:-//Ultima Online - ECPv5.16.4.1//NONSGML v1.0//EN
CALSCALE:GREGORIAN
METHOD:PUBLISH
X-WR-CALNAME:Ultima Online
X-ORIGINAL-URL:https://uo.com
X-WR-CALDESC:Events for Ultima Online
BEGIN:VTIMEZONE
TZID:Asia/Tokyo
BEGIN:STANDARD
TZOFFSETFROM:+0900
TZOFFSETTO:+0900
TZNAME:JST
DTSTART:20170101T000000
END:STANDARD
END:VTIMEZONE
BEGIN:VEVENT
DTSTART;TZID=Asia/Tokyo:20171119T220000
DTEND;TZID=Asia/Tokyo:20171119T220000
DTSTAMP:20260421T073733
CREATED:20171008T122857Z
LAST-MODIFIED:20171008T122857Z
UID:15010-1511128800-1511128800@uo.com
SUMMARY:Mizuho - The Council Meeting with the King
DESCRIPTION:The King invites all Governors and Citizens to the Council Meeting.\n*Please note this meeting requires everyone is “in-character”\, and thus roleplay is expected of all who attend.
URL:https://uo.com/event/mizuho-the-council-meeting-with-the-king-14/
LOCATION:Castle Blackthorn
CATEGORIES:EM Event
END:VEVENT
END:VCALENDAR