BEGIN:VCALENDAR
VERSION:2.0
PRODID:-//Ultima Online - ECPv5.16.4.1//NONSGML v1.0//EN
CALSCALE:GREGORIAN
METHOD:PUBLISH
X-WR-CALNAME:Ultima Online
X-ORIGINAL-URL:https://uo.com
X-WR-CALDESC:Events for Ultima Online
BEGIN:VTIMEZONE
TZID:Asia/Tokyo
BEGIN:STANDARD
TZOFFSETFROM:+0900
TZOFFSETTO:+0900
TZNAME:JST
DTSTART:20180101T000000
END:STANDARD
END:VTIMEZONE
BEGIN:VEVENT
DTSTART;TZID=Asia/Tokyo:20181229T220000
DTEND;TZID=Asia/Tokyo:20181229T220000
DTSTAMP:20260419T125504
CREATED:20181210T061216Z
LAST-MODIFIED:20181210T061216Z
UID:18571-1546120800-1546120800@uo.com
SUMMARY:Mizuho - The Council Meeting With The King
DESCRIPTION:The monthly governor’s meeting with King Blackthorn. Everyone is invited.
URL:https://uo.com/event/mizuho-the-council-meeting-with-the-king-26/
CATEGORIES:EM Event
END:VEVENT
END:VCALENDAR