BEGIN:VCALENDAR
VERSION:2.0
PRODID:-//Ultima Online - ECPv5.16.4.1//NONSGML v1.0//EN
CALSCALE:GREGORIAN
METHOD:PUBLISH
X-WR-CALNAME:Ultima Online
X-ORIGINAL-URL:https://uo.com
X-WR-CALDESC:Events for Ultima Online
BEGIN:VTIMEZONE
TZID:Australia/Sydney
BEGIN:STANDARD
TZOFFSETFROM:+1100
TZOFFSETTO:+1000
TZNAME:AEST
DTSTART:20250405T160000
END:STANDARD
BEGIN:DAYLIGHT
TZOFFSETFROM:+1000
TZOFFSETTO:+1100
TZNAME:AEDT
DTSTART:20251004T160000
END:DAYLIGHT
END:VTIMEZONE
BEGIN:VEVENT
DTSTART;TZID=Australia/Sydney:20250131T205000
DTEND;TZID=Australia/Sydney:20250131T220000
DTSTAMP:20260422T114320
CREATED:20241231T201310Z
LAST-MODIFIED:20241231T201310Z
UID:33808-1738356600-1738360800@uo.com
SUMMARY:Oceania - Beach Party
DESCRIPTION:Sir Wally is holding a beach party and players are called upon to keep the young royal out of trouble. \nStarts 8:50PM Sydney\, Australia time.
URL:https://uo.com/event/oceania-beach-party/
CATEGORIES:EM Event
END:VEVENT
END:VCALENDAR