BEGIN:VCALENDAR
VERSION:2.0
PRODID:-//Ultima Online - ECPv5.16.4.1//NONSGML v1.0//EN
CALSCALE:GREGORIAN
METHOD:PUBLISH
X-WR-CALNAME:Ultima Online
X-ORIGINAL-URL:https://uo.com
X-WR-CALDESC:Events for Ultima Online
BEGIN:VTIMEZONE
TZID:Australia/Sydney
BEGIN:STANDARD
TZOFFSETFROM:+1100
TZOFFSETTO:+1000
TZNAME:AEST
DTSTART:20230401T160000
END:STANDARD
BEGIN:DAYLIGHT
TZOFFSETFROM:+1000
TZOFFSETTO:+1100
TZNAME:AEDT
DTSTART:20230930T160000
END:DAYLIGHT
END:VTIMEZONE
BEGIN:VEVENT
DTSTART;TZID=Australia/Sydney:20230916T200000
DTEND;TZID=Australia/Sydney:20230916T210000
DTSTAMP:20260421T133935
CREATED:20230830T233345Z
LAST-MODIFIED:20230830T233345Z
UID:30276-1694894400-1694898000@uo.com
SUMMARY:Oceania: Bloody Seas II
DESCRIPTION:The race is on again to find the Pirates and return with the booty. \nThis popular PVP event is back for a second year\, where players team up in Felucia and sail as a crew verses other ships.  It’s a a race where you may find your ship sent to the bottom of the sea.
URL:https://uo.com/event/oceania-bloody-seas-ii/
CATEGORIES:EM Event
END:VEVENT
END:VCALENDAR