BEGIN:VCALENDAR
VERSION:2.0
PRODID:-//Ultima Online - ECPv5.16.4.1//NONSGML v1.0//EN
CALSCALE:GREGORIAN
METHOD:PUBLISH
X-WR-CALNAME:Ultima Online
X-ORIGINAL-URL:https://uo.com
X-WR-CALDESC:Events for Ultima Online
BEGIN:VTIMEZONE
TZID:Australia/Sydney
BEGIN:STANDARD
TZOFFSETFROM:+1100
TZOFFSETTO:+1000
TZNAME:AEST
DTSTART:20230401T160000
END:STANDARD
BEGIN:DAYLIGHT
TZOFFSETFROM:+1000
TZOFFSETTO:+1100
TZNAME:AEDT
DTSTART:20230930T160000
END:DAYLIGHT
END:VTIMEZONE
BEGIN:VEVENT
DTSTART;TZID=Australia/Sydney:20230930T200000
DTEND;TZID=Australia/Sydney:20230930T210000
DTSTAMP:20260421T114917
CREATED:20230919T032047Z
LAST-MODIFIED:20230919T032144Z
UID:30383-1696104000-1696107600@uo.com
SUMMARY:Oceania:  Fish revenge
DESCRIPTION:The Fish Protection society are outraged at the frequent fishing contests and have hired a Ronin sorcerer to get some payback on behalf of all the fish…….some of the Governor’s have a target on their backs now\, and will need some help clearing out their towns.
URL:https://uo.com/event/oceania-fish-revenge/
LOCATION:Oceania Em hall
CATEGORIES:EM Event
END:VEVENT
END:VCALENDAR