BEGIN:VCALENDAR
VERSION:2.0
PRODID:-//Ultima Online - ECPv5.16.4.1//NONSGML v1.0//EN
CALSCALE:GREGORIAN
METHOD:PUBLISH
X-WR-CALNAME:Ultima Online
X-ORIGINAL-URL:https://uo.com
X-WR-CALDESC:Events for Ultima Online
BEGIN:VTIMEZONE
TZID:America/New_York
BEGIN:DAYLIGHT
TZOFFSETFROM:-0500
TZOFFSETTO:-0400
TZNAME:EDT
DTSTART:20180311T070000
END:DAYLIGHT
BEGIN:STANDARD
TZOFFSETFROM:-0400
TZOFFSETTO:-0500
TZNAME:EST
DTSTART:20181104T060000
END:STANDARD
END:VTIMEZONE
BEGIN:VEVENT
DTSTART;TZID=America/New_York:20181109T060000
DTEND;TZID=America/New_York:20181109T070000
DTSTAMP:20260421T091432
CREATED:20181024T222910Z
LAST-MODIFIED:20181024T223013Z
UID:18052-1541743200-1541746800@uo.com
SUMMARY:Oceania - Funnels of Love
DESCRIPTION:The beasts of the land are sloughing off the shackles of winter and youngsters abound. A few were so hungry they developed a taste for… Citizens of the Realm! Come prepared to subdue them! \nDate and Time: \n10 PM Sydney Time\, Friday\, November 9\, 2018 \n6 AM US Eastern Time\, Friday\, November 9\, 2018 \n5 AM US Central Time\, Friday\, November 9\, 2018
URL:https://uo.com/event/oceania-funnels-of-love/
CATEGORIES:EM Event
END:VEVENT
END:VCALENDAR