BEGIN:VCALENDAR
VERSION:2.0
PRODID:-//Ultima Online - ECPv5.16.4.1//NONSGML v1.0//EN
CALSCALE:GREGORIAN
METHOD:PUBLISH
X-WR-CALNAME:Ultima Online
X-ORIGINAL-URL:https://uo.com
X-WR-CALDESC:Events for Ultima Online
BEGIN:VTIMEZONE
TZID:Australia/Sydney
BEGIN:STANDARD
TZOFFSETFROM:+1100
TZOFFSETTO:+1000
TZNAME:AEST
DTSTART:20240406T160000
END:STANDARD
BEGIN:DAYLIGHT
TZOFFSETFROM:+1000
TZOFFSETTO:+1100
TZNAME:AEDT
DTSTART:20241005T160000
END:DAYLIGHT
END:VTIMEZONE
BEGIN:VEVENT
DTSTART;TZID=Australia/Sydney:20240829T205000
DTEND;TZID=Australia/Sydney:20240829T220000
DTSTAMP:20260424T130656
CREATED:20240809T083702Z
LAST-MODIFIED:20240824T230813Z
UID:32409-1724964600-1724968800@uo.com
SUMMARY:Oceania - Give a dog a bone
DESCRIPTION:With the revelation that an elite member of the King’s guard had been infected with Lycanthropy the hunt begins to bring in Caleb the Undertaker for questioning.  But where has he gone? \nBegins at 8:50PM for  9Pm start Sydney Australia  time.
URL:https://uo.com/event/oceania-give-a-dog-a-bone/
LOCATION:Oceania Em hall
CATEGORIES:EM Event
END:VEVENT
END:VCALENDAR