BEGIN:VCALENDAR
VERSION:2.0
PRODID:-//Ultima Online - ECPv5.16.4.1//NONSGML v1.0//EN
CALSCALE:GREGORIAN
METHOD:PUBLISH
X-WR-CALNAME:Ultima Online
X-ORIGINAL-URL:https://uo.com
X-WR-CALDESC:Events for Ultima Online
BEGIN:VTIMEZONE
TZID:Australia/Sydney
BEGIN:STANDARD
TZOFFSETFROM:+1100
TZOFFSETTO:+1000
TZNAME:AEST
DTSTART:20260404T160000
END:STANDARD
BEGIN:DAYLIGHT
TZOFFSETFROM:+1000
TZOFFSETTO:+1100
TZNAME:AEDT
DTSTART:20261003T160000
END:DAYLIGHT
END:VTIMEZONE
BEGIN:VEVENT
DTSTART;TZID=Australia/Sydney:20260501T210000
DTEND;TZID=Australia/Sydney:20260501T220000
DTSTAMP:20260422T175901
CREATED:20260422T032118Z
LAST-MODIFIED:20260422T032118Z
UID:37417-1777669200-1777672800@uo.com
SUMMARY:OCEANIA - Governors meeting
DESCRIPTION:Meeting of Oceania Governors
URL:https://uo.com/event/oceania-governors-meeting-47/
CATEGORIES:EM Event
END:VEVENT
END:VCALENDAR