BEGIN:VCALENDAR
VERSION:2.0
PRODID:-//Ultima Online - ECPv5.16.4.1//NONSGML v1.0//EN
CALSCALE:GREGORIAN
METHOD:PUBLISH
X-WR-CALNAME:Ultima Online
X-ORIGINAL-URL:https://uo.com
X-WR-CALDESC:Events for Ultima Online
BEGIN:VTIMEZONE
TZID:Australia/Sydney
BEGIN:STANDARD
TZOFFSETFROM:+1100
TZOFFSETTO:+1000
TZNAME:AEST
DTSTART:20250405T160000
END:STANDARD
BEGIN:DAYLIGHT
TZOFFSETFROM:+1000
TZOFFSETTO:+1100
TZNAME:AEDT
DTSTART:20251004T160000
END:DAYLIGHT
END:VTIMEZONE
BEGIN:VEVENT
DTSTART;TZID=Australia/Sydney:20250823T205000
DTEND;TZID=Australia/Sydney:20250823T220000
DTSTAMP:20260419T091946
CREATED:20250814T101800Z
LAST-MODIFIED:20250814T101800Z
UID:35524-1755982200-1755986400@uo.com
SUMMARY:Oceania - Into the Void
DESCRIPTION:Things are getting crazy in the world. Is reality as we know it coming to an end?  When will the King reappear? \nPlayers must investigate a tear in the fabric of reality. \nStarts 8:50PM Sydney time.
URL:https://uo.com/event/oceania-into-the-void/
CATEGORIES:EM Event
END:VEVENT
END:VCALENDAR