BEGIN:VCALENDAR
VERSION:2.0
PRODID:-//Ultima Online - ECPv5.16.4.1//NONSGML v1.0//EN
CALSCALE:GREGORIAN
METHOD:PUBLISH
X-WR-CALNAME:Ultima Online
X-ORIGINAL-URL:https://uo.com
X-WR-CALDESC:Events for Ultima Online
BEGIN:VTIMEZONE
TZID:Australia/Sydney
BEGIN:STANDARD
TZOFFSETFROM:+1100
TZOFFSETTO:+1000
TZNAME:AEST
DTSTART:20240406T160000
END:STANDARD
BEGIN:DAYLIGHT
TZOFFSETFROM:+1000
TZOFFSETTO:+1100
TZNAME:AEDT
DTSTART:20241005T160000
END:DAYLIGHT
END:VTIMEZONE
BEGIN:VEVENT
DTSTART;TZID=Australia/Sydney:20240810T200000
DTEND;TZID=Australia/Sydney:20240810T210000
DTSTAMP:20260424T200247
CREATED:20240809T082706Z
LAST-MODIFIED:20240809T082706Z
UID:32407-1723320000-1723323600@uo.com
SUMMARY:Oceania - Min and Max
DESCRIPTION:Community event where players have some fun with other Oceania players \n  \nStarts 8PM Sydney time
URL:https://uo.com/event/oceania-min-and-max/
LOCATION:Oceania Em hall
CATEGORIES:EM Event
END:VEVENT
END:VCALENDAR