BEGIN:VCALENDAR
VERSION:2.0
PRODID:-//Ultima Online - ECPv5.16.4.1//NONSGML v1.0//EN
CALSCALE:GREGORIAN
METHOD:PUBLISH
X-WR-CALNAME:Ultima Online
X-ORIGINAL-URL:https://uo.com
X-WR-CALDESC:Events for Ultima Online
BEGIN:VTIMEZONE
TZID:Australia/Sydney
BEGIN:STANDARD
TZOFFSETFROM:+1100
TZOFFSETTO:+1000
TZNAME:AEST
DTSTART:20260404T160000
END:STANDARD
BEGIN:DAYLIGHT
TZOFFSETFROM:+1000
TZOFFSETTO:+1100
TZNAME:AEDT
DTSTART:20261003T160000
END:DAYLIGHT
END:VTIMEZONE
BEGIN:VEVENT
DTSTART;TZID=Australia/Sydney:20260314T210000
DTEND;TZID=Australia/Sydney:20260314T220000
DTSTAMP:20260424T202250
CREATED:20260310T000933Z
LAST-MODIFIED:20260310T000933Z
UID:37095-1773522000-1773525600@uo.com
SUMMARY:OCEANIA - Papua has Fallen
DESCRIPTION:With the attack on Tombstone\, New Lands bandits strike back. \nPapua has fallen and its up to the brave souls of Oceania to liberate the town. \nStarts 9:00 PM Sydney Australia time.
URL:https://uo.com/event/oceania-papua-has-fallen/
LOCATION:Oceania Em hall
CATEGORIES:EM Event
END:VEVENT
END:VCALENDAR