BEGIN:VCALENDAR
VERSION:2.0
PRODID:-//Ultima Online - ECPv5.16.4.1//NONSGML v1.0//EN
CALSCALE:GREGORIAN
METHOD:PUBLISH
X-WR-CALNAME:Ultima Online
X-ORIGINAL-URL:https://uo.com
X-WR-CALDESC:Events for Ultima Online
BEGIN:VTIMEZONE
TZID:Australia/Sydney
BEGIN:STANDARD
TZOFFSETFROM:+1100
TZOFFSETTO:+1000
TZNAME:AEST
DTSTART:20250405T160000
END:STANDARD
BEGIN:DAYLIGHT
TZOFFSETFROM:+1000
TZOFFSETTO:+1100
TZNAME:AEDT
DTSTART:20251004T160000
END:DAYLIGHT
END:VTIMEZONE
BEGIN:VEVENT
DTSTART;TZID=Australia/Sydney:20250927T210000
DTEND;TZID=Australia/Sydney:20250927T220000
DTSTAMP:20260419T110100
CREATED:20250831T213545Z
LAST-MODIFIED:20250918T014934Z
UID:35627-1759006800-1759010400@uo.com
SUMMARY:Oceania "Pyramid of Pain"
DESCRIPTION:Who will be the first to complete the Pyramid of Pain and can you even survive at all? \nThis tough competition pits players against each other in a quest unlike  any other. \nStarts 9PM Sydney time.
URL:https://uo.com/event/oceania-pyramid-of-pain/
LOCATION:Oceania Em hall
CATEGORIES:EM Event
END:VEVENT
END:VCALENDAR