BEGIN:VCALENDAR
VERSION:2.0
PRODID:-//Ultima Online - ECPv5.16.4.1//NONSGML v1.0//EN
CALSCALE:GREGORIAN
METHOD:PUBLISH
X-WR-CALNAME:Ultima Online
X-ORIGINAL-URL:https://uo.com
X-WR-CALDESC:Events for Ultima Online
BEGIN:VTIMEZONE
TZID:Australia/Sydney
BEGIN:STANDARD
TZOFFSETFROM:+1100
TZOFFSETTO:+1000
TZNAME:AEST
DTSTART:20240406T160000
END:STANDARD
BEGIN:DAYLIGHT
TZOFFSETFROM:+1000
TZOFFSETTO:+1100
TZNAME:AEDT
DTSTART:20241005T160000
END:DAYLIGHT
END:VTIMEZONE
BEGIN:VEVENT
DTSTART;TZID=Australia/Sydney:20240511T210000
DTEND;TZID=Australia/Sydney:20240511T220000
DTSTAMP:20260422T224856
CREATED:20240417T000937Z
LAST-MODIFIED:20240504T060620Z
UID:31705-1715461200-1715464800@uo.com
SUMMARY:Oceania - The Gypsy Curse
DESCRIPTION:Following on from the Trouble in Trinsic event…. \nSir Wally’s dalliance with a gypsy maiden has brought a gypsy curse upon the land.  Players are called upon to end this trouble. \nGather at 8:50 PM Sydney\, Australia time for a 9PM start.
URL:https://uo.com/event/oceania-the-gypsy-curse/
LOCATION:Oceania Em hall
CATEGORIES:EM Event
END:VEVENT
END:VCALENDAR