BEGIN:VCALENDAR
VERSION:2.0
PRODID:-//Ultima Online - ECPv5.16.4.1//NONSGML v1.0//EN
CALSCALE:GREGORIAN
METHOD:PUBLISH
X-WR-CALNAME:Ultima Online
X-ORIGINAL-URL:https://uo.com
X-WR-CALDESC:Events for Ultima Online
BEGIN:VTIMEZONE
TZID:Australia/Sydney
BEGIN:STANDARD
TZOFFSETFROM:+1100
TZOFFSETTO:+1000
TZNAME:AEST
DTSTART:20260404T160000
END:STANDARD
BEGIN:DAYLIGHT
TZOFFSETFROM:+1000
TZOFFSETTO:+1100
TZNAME:AEDT
DTSTART:20261003T160000
END:DAYLIGHT
END:VTIMEZONE
BEGIN:VEVENT
DTSTART;TZID=Australia/Sydney:20260516T205000
DTEND;TZID=Australia/Sydney:20260516T220000
DTSTAMP:20260424T123757
CREATED:20260422T032700Z
LAST-MODIFIED:20260422T032700Z
UID:37419-1778964600-1778968800@uo.com
SUMMARY:OCEANIA - The Mad Tinker
DESCRIPTION:They say\, sometimes people are so smart\, they just go mad!  It’s certainly the conclusion of more than a few nobles  in the court when a resent assassination attempt was thwarted.  The owner of that rampant golem has more than a few questions to answer. \nJoin us for clockwork madness. \nStarts 8:50PM Sydney Australia time.
URL:https://uo.com/event/oceania-the-mad-tinker/
LOCATION:Oceania Em hall
CATEGORIES:EM Event
END:VEVENT
END:VCALENDAR