BEGIN:VCALENDAR
VERSION:2.0
PRODID:-//Ultima Online - ECPv5.16.4.1//NONSGML v1.0//EN
CALSCALE:GREGORIAN
METHOD:PUBLISH
X-WR-CALNAME:Ultima Online
X-ORIGINAL-URL:https://uo.com
X-WR-CALDESC:Events for Ultima Online
BEGIN:VTIMEZONE
TZID:Australia/Sydney
BEGIN:STANDARD
TZOFFSETFROM:+1100
TZOFFSETTO:+1000
TZNAME:AEST
DTSTART:20260404T160000
END:STANDARD
BEGIN:DAYLIGHT
TZOFFSETFROM:+1000
TZOFFSETTO:+1100
TZNAME:AEDT
DTSTART:20261003T160000
END:DAYLIGHT
END:VTIMEZONE
BEGIN:VEVENT
DTSTART;TZID=Australia/Sydney:20260321T205000
DTEND;TZID=Australia/Sydney:20260321T220000
DTSTAMP:20260424T221954
CREATED:20260310T001325Z
LAST-MODIFIED:20260310T001325Z
UID:37097-1774126200-1774130400@uo.com
SUMMARY:OCEANIA - The Watch Tower
DESCRIPTION:Trouble in the New Lands. \nContact has been lost with a remote watch tower.  Players are sent on an expedition to investigate and determine the fate of the Watch. \nStarts  8:50PM Sydney Australia time.
URL:https://uo.com/event/oceania-the-watch-tower/
LOCATION:Oceania Em hall
CATEGORIES:EM Event
END:VEVENT
END:VCALENDAR