BEGIN:VCALENDAR
VERSION:2.0
PRODID:-//Ultima Online - ECPv5.16.4.1//NONSGML v1.0//EN
CALSCALE:GREGORIAN
METHOD:PUBLISH
X-WR-CALNAME:Ultima Online
X-ORIGINAL-URL:https://uo.com
X-WR-CALDESC:Events for Ultima Online
BEGIN:VTIMEZONE
TZID:Australia/Sydney
BEGIN:STANDARD
TZOFFSETFROM:+1100
TZOFFSETTO:+1000
TZNAME:AEST
DTSTART:20230401T160000
END:STANDARD
BEGIN:DAYLIGHT
TZOFFSETFROM:+1000
TZOFFSETTO:+1100
TZNAME:AEDT
DTSTART:20230930T160000
END:DAYLIGHT
END:VTIMEZONE
BEGIN:VEVENT
DTSTART;TZID=Australia/Sydney:20230527T200000
DTEND;TZID=Australia/Sydney:20230527T210000
DTSTAMP:20260422T124623
CREATED:20230507T044554Z
LAST-MODIFIED:20230518T222928Z
UID:29720-1685217600-1685221200@uo.com
SUMMARY:Oceania: X Marks the Spot
DESCRIPTION:One step\, two steps\, three steps\, four….what lies beneath the ground may be more than you expected in this treasure hunting event.
URL:https://uo.com/event/oceania-x-marks-the-spot/
LOCATION:Oceania Em hall
CATEGORIES:EM Event
END:VEVENT
END:VCALENDAR