BEGIN:VCALENDAR
VERSION:2.0
PRODID:-//Ultima Online - ECPv5.16.4.1//NONSGML v1.0//EN
CALSCALE:GREGORIAN
METHOD:PUBLISH
X-WR-CALNAME:Ultima Online
X-ORIGINAL-URL:https://uo.com
X-WR-CALDESC:Events for Ultima Online
BEGIN:VTIMEZONE
TZID:Australia/Sydney
BEGIN:STANDARD
TZOFFSETFROM:+1100
TZOFFSETTO:+1000
TZNAME:AEST
DTSTART:20260404T160000
END:STANDARD
BEGIN:DAYLIGHT
TZOFFSETFROM:+1000
TZOFFSETTO:+1100
TZNAME:AEDT
DTSTART:20261003T160000
END:DAYLIGHT
END:VTIMEZONE
BEGIN:VEVENT
DTSTART;TZID=Australia/Sydney:20260425T205000
DTEND;TZID=Australia/Sydney:20260425T220000
DTSTAMP:20260422T083130
CREATED:20260422T031502Z
LAST-MODIFIED:20260422T031502Z
UID:37411-1777150200-1777154400@uo.com
SUMMARY:OCEANIA - Yaaar
DESCRIPTION:The saga continues battling no-good outlaws in the new lands.  This time we assault a pirate fort. \nStarts 8:50 PM Sydney Australia time
URL:https://uo.com/event/oceania-yaaar/
LOCATION:Oceania Em hall
CATEGORIES:EM Event
END:VEVENT
END:VCALENDAR