BEGIN:VCALENDAR
VERSION:2.0
PRODID:-//Ultima Online - ECPv5.16.4.1//NONSGML v1.0//EN
CALSCALE:GREGORIAN
METHOD:PUBLISH
X-WR-CALNAME:Ultima Online
X-ORIGINAL-URL:https://uo.com
X-WR-CALDESC:Events for Ultima Online
BEGIN:VTIMEZONE
TZID:America/Los_Angeles
BEGIN:DAYLIGHT
TZOFFSETFROM:-0800
TZOFFSETTO:-0700
TZNAME:PDT
DTSTART:20180311T100000
END:DAYLIGHT
BEGIN:STANDARD
TZOFFSETFROM:-0700
TZOFFSETTO:-0800
TZNAME:PST
DTSTART:20181104T090000
END:STANDARD
END:VTIMEZONE
BEGIN:VEVENT
DTSTART;TZID=America/Los_Angeles:20180429T180000
DTEND;TZID=America/Los_Angeles:20180429T193000
DTSTAMP:20260421T184621
CREATED:20180404T225330Z
LAST-MODIFIED:20180404T225330Z
UID:16285-1525024800-1525030200@uo.com
SUMMARY:Origin ~ Bacon & Beer Brawl ~ EM Auma’s 4th Anniversary
DESCRIPTION:
URL:https://uo.com/event/origin-bacon-beer-brawl-em-aumas-4th-anniversary/
LOCATION:Gates from W. Britain\, Haven & Luna Banks
CATEGORIES:EM Event
END:VEVENT
END:VCALENDAR